BEGIN:VCALENDAR
VERSION:2.0
PRODID:icalendar-ruby
CALSCALE:GREGORIAN
METHOD:PUBLISH
BEGIN:VEVENT
DTSTAMP:20260423T004417Z
UID:5-1099482@stjohnleamington.org
DTSTART:20261101T160000Z
DTEND:20261101T170000Z
CLASS:PUBLIC
CREATED:20260422T193757
DESCRIPTION:Sunday Worship
LAST-MODIFIED:20260422T193757
LOCATION:
SUMMARY:Sunday Worship
URL;VALUE=URI:https://stjohnleamington.org/events/sunday-worship/2026-11-01
END:VEVENT
END:VCALENDAR
